BEGIN:VCALENDAR
VERSION:2.0
PRODID:O Património Religioso de Ponte de Lima: A Freguesia de Labruja
X-WR-CALNAME:O Património Religioso de Ponte de Lima: A Freguesia de Labru
 ja
X-WR-TIMEZONE:Europe/Lisbon
X-PUBLISHED-TTL:P1W
BEGIN:VTIMEZONE
TZID:Europe/Lisbon
X-LIC-LOCATION:Europe/Lisbon
END:VTIMEZONE
BEGIN:VEVENT
UID:69eb9898a27e4
DTSTART;VALUE=DATE:20220407
SEQUENCE:0
TRANSP:OPAQUE
DTEND;VALUE=DATE:20220408
SUMMARY:O Património Religioso de Ponte de Lima: A Freguesia de Labruja
CLASS:PUBLIC
DESCRIPTION:Expo no Museu dos Terceiros
X-MICROSOFT-CDO-ALLDAYEVENT:TRUE
DTSTAMP:20260424T162144Z
END:VEVENT
END:VCALENDAR